BEGIN:VCALENDAR
VERSION:2.0
PRODID:-//urwahl3000//stadtraum2030.de//DE
CALSCALE:GREGORIAN
BEGIN:VEVENT
DTSTART:20200604T233000
DTEND:20200604T233000
LOCATION: Berlin
DTSTAMP:20200604T233000
SUMMARY:Ende Umfrage
URL;VALUE=URI:https://stadtraum2030.de/archives/termin/ende-umfrage-2
UID:20200604T233000-20200604T233000-20200604T233000
END:VEVENT
END:VCALENDAR